<?xml version="1.0" encoding="UTF-8"?>
<metadata>
<idinfo>
<citation>
<citeinfo>
<origin>U.S. Geological Survey</origin>
<origin>Illinois State Geological Survey</origin>
<origin>Surdex Corporation and Science Applications International Corporation (SAIC)</origin>
<pubdate>20060906</pubdate>
<title>Mosaic of Illinois Digital Orthophoto Quadrangles in UTM Zone 15, NAD83, 2005 Photography</title>
<edition>20060906</edition>
<geoform>remote-sensing image</geoform>
<serinfo>
<sername>ISGS GIS Database</sername>
<issue>GISDB.IL_DOQ_2005_MOSAIC_UTM15_RAS</issue>
</serinfo>
<pubinfo>
<pubplace>Champaign, IL</pubplace>
<publish>Illinois State Geological Survey</publish>
</pubinfo>
<onlink>http://www.isgs.illinois.edu/</onlink>
<onlink>http://illinois.edu</onlink>
</citeinfo>
</citation>
<descript>
<abstract>
This data set is an SDE raster mosaic of DOQs from year 2005 that occur within the UTM Zone 15 portion of Illinois.  The data are stored in the &quot;as delivered&quot; spatial reference of UTM Zone 15, NAD83 with a 0.5-meter ground resolution.  This raster mosaic can be used in conjunction with the raster mosaics named IL_DOQ_2005_MOSAIC_UTM16_RAS and IL_CUA_2005_MOSAIC_UTM16_RAS to provide full 2005 orthophoto coverage of Illinois.

The raster mosaic was constructed using uncompressed GeoTIFF images and ArcSDE 9.1 command-line functions.  It is stored in the SDE database with LZ77 compression.  The original image tiles were not resampled in the mosaicking process and had exact side-by-side pixel registration.  This means the SDE raster layer preserves the exact pixel location and cell values of the source images.  The data consumes 173 gigabytes of disk space in 5,270,858 database rows.  The in-processing occurred over the period 20060530 to 20060906 as the data were delivered is several lots by the USGS.

[Begin excerpt from USGS metadata]

A 0.5 meter resolution panchromatic (B and W) USGS Digital Orthophoto Quarter-quadrangle (DOQQ) (sic) A DOQQ is a raster image in which displacement in the image caused by sensor orientation and terrain relief has been removed. A DOQQ combines the image characteristics of a photograph with the geometric qualities of a map. The geographic extent of the DOQQ is equivalent to a quarter of a 7.5-minute map (3.75 minutes of latitude and longitude) with overedge . The overedge ranges from a minimum of 50 meters to 300 meters beyond the extremes of the primary and secondary corner ticks. DOQQs are produced with a 1-meter ground sample distance (GSD) and are cast on the Universal Transverse Mercator (UTM) projection on the North American Datum of 1983 (NAD83). Primary (solid) and secondary (dashed) corner ticks are burned into the image to indicate the geographic corners of the DOQQ. The primary ticks always show the NAD83 corners. The secondary ticks show either the NAD27 or the local horizontal datum in use in a specific area (e.g. the Puerto Rico datum, the Hawaiian datum). Each DOQQ is produced to meet a National Map Accuracy Standard (NMAS) for 1:12000 scale maps (10.16 meters radial error at a 90% probability). Each DOQQ is formatted with a variable length ASCII header followed by a series of 8-bit image data lines. The ASCII header is padded to equal the length of one image line. The header contains information on file organization, display (samples and lines), georeferencing, and production sources. The file structure for a native format DOQQ is analogous to a raw raster BIL (panchromatic) or BIP (RGB color). DOQQs are nominally produced from National Aerial Photography Program (NAPP) source imagery flown at 20,000 feet above average ground using a single source image for each DOQQ. NAPP imagery is flown leaf-off in deciduous vegetation regions.

[End excerpt from USGS metadata]

The radiometric image brightness values are stored as 256 gray levels ranging from 0 to 255.
</abstract>
<purpose>
[Begin excerpt from USGS metadata]

This data depicts geographic features on the surface of the earth.  DOQQs serve a variety of purposes, from interim base maps to field references for earth science investigations and analysis.  The DOQQ is useful as a layer in a geographic information system (GIS) and as a tool for performing digital map revision.  DOQQs form the medium-resolution image base for The National Map

[End excerpt from USGS metadata]

These data are appropriate for use in local and regional thematic analysis.  The data are not appropriate as a geodetic, legal or engineering base.  The data set serves as an important base cartographic element for many types of maps and has been widely distributed and used outside the ISGS.  The data set was not and is not intended as a substitute for surveyed locations, such as can be determined by a registered Public Land Surveyor.  Although useful in a GIS as a reference base layer for maps, the data set has no legal basis in the definition of boundaries or property lines.
</purpose>
</descript>
<timeperd>
<timeinfo>
<rngdates>
<begdate>20050218</begdate>
<enddate>20050504</enddate>
</rngdates>
</timeinfo>
<current>ground condition</current>
</timeperd>
<status>
<progress>Complete</progress>
<update>None planned</update>
</status>
<spdom>
<bounding>
<westbc Sync="TRUE">-91.611664</westbc>
<eastbc Sync="TRUE">-89.784605</eastbc>
<northbc Sync="TRUE">42.594868</northbc>
<southbc Sync="TRUE">37.933055</southbc>
</bounding>
</spdom>
<keywords>
<theme>
<themekt>None</themekt>
<themekey>DOQ</themekey>
<themekey>DOQQ</themekey>
<themekey>digital orthophoto</themekey>
<themekey>digital orthophotoquad</themekey>
<themekey>digital image map</themekey>
<themekey>aerial photograph</themekey>
<themekey>rectified photograph</themekey>
<themekey>rectified image</themekey>
<themekey>orthophoto</themekey>
<themekey>quarter-quadrangle orthophoto</themekey>
<themekey>0.5-meter orthophoto</themekey>
<themekey>3.75- x 3.75-minute orthophoto</themekey>
</theme>
<place>
<placekt>
U.S. Department of Commerce, 1977, Countries,
dependencies,areas of special sovereignty, and
their principal administrative divisions
(Federal Information Processing Standard 10-3):
Washington, D.C., National Institute of Standards
and Technology.
</placekt>
<placekey>US</placekey>
<placekey>IL</placekey>
</place>
</keywords>
<accconst>
ISGS information must be obtained directly from the ISGS or from an authorized distributor.  Be aware that ISGS information obtained from an unauthorized third party may have been altered subsequent to original distribution, or may no longer be current.

Any access to these data, Web sites, computer systems, electronic services, and electronic networks is governed by University and campus policies, in particular, but not limited to, the Policy on Appropriate Use of Computers and Network Systems at the University of Illinois at Urbana-Champaign, the ISGS Terms of Use document available at the ISGS Web site, and the University of Illinois Web Privacy Notice.

Links to these are provided in the Cross References section.
</accconst>
<useconst>
ISGS information is the property of and copyrighted by the Board of Trustees of the University of Illinois with all rights reserved.  University copyright policy is stated in the General Rules Concerning University Organization and Procedure, Article III, Section 4.  A link is provided in the Cross References section.

Individuals or entities may make fair use of copyrighted ISGS material, such as reproducing a single figure or table, or using a brief text quotation, without obtaining formal permission, but in all cases the Illinois State Geological Survey must be credited as the source of the material. To reproduce ISGS information beyond the fair use standard, permission must be obtained from the ISGS Information Office, 615 East Peabody Drive, Champaign, Illinois 61820, 217-333-4747, isgs@isgs.illinois.edu. License fees and a license agreement may be required, depending on the proposed usage.

Any use of these data is governed by University and campus policies, in particular, but not limited to, the Policy on Appropriate Use of Computers and Network Systems at the University of Illinois at Urbana-Champaign, the ISGS Terms of Use document available at the ISGS Web site, and the University of Illinois Web Privacy Notice.  Links to these are provided in the Cross References section.

Map information is to be used at a scientifically and cartographically appropriate scale, that is, at a scale no greater than indicated on the map or as described in the documentation of the map or map data.  Map information is not appropriate for, and is not to be used as, a geodetic, legal, or engineering base. Map information has no legal basis in the definition of boundaries or property lines and is not intended as a substitute for surveyed locations such as can be determined by a registered Public Land Surveyor.

The data do not replace the need for detailed site-specific studies.
</useconst>
<ptcontac>
<cntinfo>
<cntinst>Please refer to the Distribution Information section.</cntinst>
</cntinfo>
</ptcontac>
<native>ArcSDE 9.1 on Oracle 10g</native>
<crossref>
<citeinfo>
<title>ISGS Terms of Use</title>
<onlink>http://www.isgs.illinois.edu</onlink>
</citeinfo>
</crossref>
<crossref>
<citeinfo>
<title>University of Illinois Web Privacy Notice</title>
<onlink>http://www.vpaa.uillinois.edu/policies/web_privacy.cfm</onlink>
</citeinfo>
</crossref>
<crossref>
<citeinfo>
<title>University Copyright Policy (stated in the General Rules Concerning University Organization and Procedure, Article III, Section 4)</title>
<onlink>http://www.uillinois.edu/trustees/rules.cfm#sec34</onlink>
</citeinfo>
</crossref>
<crossref>
<citeinfo>
<title>Policy on Appropriate Use of Computers and Network Systems at the University of Illinois at Urbana-Champaign</title>
<onlink>http://www.fs.uiuc.edu/cam/CAM/viii/viii-1.1.html</onlink>
</citeinfo>
</crossref>
</idinfo>
<dataqual>
<attracc>
<attraccr>
For original, uncompressed DOQs (GeoTIFF format) as delivered by USGSand Surdex:

[Begin excerpt from USGS metadata]

The digital dodging software developed by Surdex is used to counter the effects of haze and sun angle illumination on the film photography.  This procedure has been proven to  provide a distinct advantage in minimizing the need for extensive radiometric balancing and improves automatic pass/tie point collection during the aerotriangulation phase.  The net affect of this program is to drive the source image closer to a histogram with a nearly Gaussian distribution.  The output of this program will always produce an image  with full dynamic range, nearly regardless of the source image.  Minimal radiometric balancing was achieved using Inpho&apos;s Ortho Vista software.

[End excerpt from USGS metadata]
</attraccr>
</attracc>
<logic>
[Begin excerpt from USGS metadata]

All DOQQ header data and image file sizes are validated using USGS software before being archived.  This validation process ensures correct physical format and field values for header elements.  Logical relationships between header elements are tested.  Overlap regions between individual DOQQs are visually inspected for excessive horizontal displacement.

[End excerpt from USGS metadata]

No subsequent logical validation has been performed.
</logic>
<complete>
Regarding original DOQs &quot;as delivered&quot; by USGS:

[Begin excerpt from USGS metadata]

DOQQ images are visually inspected for completeness to ensure that no gaps or image misplacements exist within the 3.75-minute image area or the overedge coverage.  DOQQs can be derived by mosaicking multiple images to ensure complete coverage.  and between adjacent images. (sic)   DOQQs are nominally produced from National Aerial Photography Program (NAPP) source imagery flown at 20,000 feet above average ground using a single source image for each DOQQ.  NAPP imagery is flown leaf-off in deciduous vegetation regions.  Source imagery is nominally cloud free.  Coastal areas and international boundary regions may have areas without images (void areas) in parts of the coverage. These void areas have a radiometric value of either zero (black) or 128 (uniform gray).  DOQQs nominally are produced with overedge coverage.  This coverage is variable and may range from a minimum of 50 meters to a maximum of 300 meters beyond the extremes of the primary or secondary corners.  The resulting DOQQ is a rectangle whose size may vary in relation to adjoining DOQQs.

[End excerpt from USGS metadata]

Regarding DOQ mosaic as subsequently processed by ISGS:

All areas in the UTM 15 portion of the state of Illinois are represented.
</complete>
<posacc>
<horizpa>
<horizpar>
For DOQs &quot;as delivered&quot; by USGS:

[Begin excerpt from USGS metadata]

Random selection of 5% of the DOQQ tiles for excessive edge match offset.

[End excerpt from USGS metadata]

For SDE DOQ mosaic developed by ISGS:

The pixels preserve the exact position of the source imagery.  This was verified in ArcMap software by overlaying a random sample of 10% of the source images with the SDE raster mosaic, zooming into one or more corners of the source image to a scale of 1:10 or greater, and comparing the locations of the corners of the corner-most pixel in the source image to the corresponding pixel in the raster mosaic.
</horizpar>
<qhorizpa>
<horizpav>Horizontal accuracy meets National Map Accuracy Standards for 1:12,000-scale maps</horizpav>
<horizpae>
[Begin excerpt from USGS metadata]

Various checks of Digital Elevation Models and Digital Orthophotos from a variety of other existing sources, including but not limited to previous projects done by Surdex.

[End excerpt from USGS  metadata]

Values may vary from quarter-quad to quarter-quad.
</horizpae>
</qhorizpa>
</horizpa>
</posacc>
<lineage>
<srcinfo>
<srccite>
<citeinfo>
<origin>Surdex Corporation</origin>
<pubdate>2005</pubdate>
<title>Various NAPP photographs covering the mosaicked area</title>
<geoform>remote-sensing image</geoform>
</citeinfo>
</srccite>
<srcscale>40000</srcscale>
<typesrc>stable-base material</typesrc>
<srctime>
<timeinfo>
<rngdates>
<begdate>20050218</begdate>
<enddate>20050504</enddate>
</rngdates>
</timeinfo>
<srccurr>ground condition</srccurr>
</srctime>
<srccitea>PHOTO</srccitea>
<srccontr>
[Begin excerpt from USGS metadata]

Stable-base aerial photography acquired at 1:40,000 scale using only metric aerial cameras with USGS calibration certificates.  Provides the imagery for the digital orthoimage.  Film is panchromatic.

[End excerpt from USGS metadata]
</srccontr>
</srcinfo>
<srcinfo>
<srccite>
<citeinfo>
<origin>U.S. Geological Survey</origin>
<pubdate>2003</pubdate>
<title>USGS 1-arcsec NED</title>
</citeinfo>
</srccite>
<typesrc>Hard Drive</typesrc>
<srctime>
<timeinfo>
<rngdates>
<begdate>1929</begdate>
<enddate>1998</enddate>
</rngdates>
</timeinfo>
<srccurr>ground condition</srccurr>
</srctime>
<srccitea>DEM</srccitea>
<srccontr>
[Begin excerpt from USGS metadata]

USGS 1-arcsec National Elevation Dataset for the entire United States that was broken down into 1 degree cells.

[End excerpt from USGS metadata]
</srccontr>
</srcinfo>
<srcinfo>
<srccite>
<citeinfo>
<origin>Surdex Corporation</origin>
<pubdate>2005</pubdate>
<title>Project Photo Control</title>
</citeinfo>
</srccite>
<typesrc>CD-ROM</typesrc>
<srctime>
<timeinfo>
<rngdates>
<begdate>20050218</begdate>
<enddate>20050504</enddate>
</rngdates>
</timeinfo>
<srccurr>ground condition</srccurr>
</srctime>
<srccitea>CONTROL</srccitea>
<srccontr>
[Begin excerpt from USGS metadata]

Horizontal and vertical control used to establish positions and elevations for reference and correlation purposes and as input to the aerotriangulation process.  Control consists of both Airborne GPS to provide camera station positions and photoidentifiable surveyed ground control for ground reference.

[End excerpt from USGS metadata]
</srccontr>
</srcinfo>
<srcinfo>
<srccite>
<citeinfo>
<origin>United States Geological Survey</origin>
<pubdate>2005</pubdate>
<title>GeoTIFF Collection on Hard Drive</title>
<geoform>remote-sensing image</geoform>
</citeinfo>
</srccite>
<typesrc>hard drive</typesrc>
<srctime>
<timeinfo>
<sngdate>
<caldate>2005</caldate>
</sngdate>
</timeinfo>
<srccurr>ground condition</srccurr>
</srctime>
<srccontr>The GeoTIFF images were delivered to ISGS from USGS on a series of hard drives.</srccontr>
</srcinfo>
<procstep>
<procdesc>
The production procedures, instrumentation, hardware and software used in the collection of standard USGS DOQ&apos;s vary depending on systems used at the contract, cooperator or USGS production sites. The majority of DOQ datasets are acquired through government contract. This process step describes the process used by the contractor (Surdex) for this USGS DOQ data set.  Additional detail is included in subsequent processing steps for processing done by the ISGS.

[Begin excerpt from USGS metadata]

Source imagery was collected using four cameras (two Wild RC-30 and two Jena LMK), all have 6&quot; focal lengths and a current calibration by USGS.  The imagery was processed by HAS Images Inc.  in Dayton, OH.  Airbone GPS data was processed by Surdex Corporation.  Image negatives were  scanned at 10-micrometer resolution on Leica DSW Image Scanners and dodge using SurDodge software  by Surdex.  The scanned images were then used as input, along with Airborne GPS data and camera  calibration data in Intergraph&apos;s ImageStation Automatic Triangulation (ISAT) for point mensuration.  An assessment of the USGS National Elevation Dataset (NED) revealed several areas of insufficient data,  at which other DEM sources obtained by Surdex was (sic) used.  The aero triangulation parameter data, used  with the scanned and dodged imagery were orthorectified using the modified elevation models and Surdex  orthorectification software.  Some orthorectified images were then mosaicked, if necessary, to reduce  minor image defects.  Radiometric balancing achieved using Inpho&apos;s OrthoVista, as necessary, to produce  a consistent image tone for DOQQs.  Product tiles were then extracted and converted to GeoTIFF format  written to hard drive for delivery.

[End excerpt from USGS metadata]

The Surdex processing was done on LH Systems DSW700 Film Scanners, Surdex SurDodge Software, Intergraph&apos;s ISAT v04.04.17, Surdex Snoop tool, Surdex DOQQDB Production Software, Surdex developed orthorectification software, Inpho Orthovista software v4.0, Windows 2000 and Windows XP Operating System. SAIC QVerify V0.1 Software, SAIC QSideview V0.1., SUNW Ultra-4, Solaris OS V5.9.
</procdesc>
<procdate>range 20051212 - 20060728</procdate>
</procstep>
</lineage>
</dataqual>
<spdoinfo>
<direct>Raster</direct>
<rastinfo>
<rasttype Sync="TRUE">Pixel</rasttype>
<rowcount Sync="TRUE">1028511</rowcount>
<colcount Sync="TRUE">284005</colcount>
<vrtcount Sync="TRUE">1</vrtcount>
</rastinfo>
</spdoinfo>
<spref>
<horizsys>
<planar>
<gridsys>
<gridsysn Sync="TRUE">Universal Transverse Mercator</gridsysn>
<utm>
<utmzone Sync="TRUE">15</utmzone>
<transmer>
<sfctrmer Sync="TRUE">0.999600</sfctrmer>
<longcm Sync="TRUE">-93.000000</longcm>
<latprjo Sync="TRUE">0.000000</latprjo>
<feast Sync="TRUE">500000.000000</feast>
<fnorth Sync="TRUE">0.000000</fnorth>
</transmer>
</utm>
</gridsys>
<planci>
<plance>coordinate pair</plance>
<coordrep>
<absres Sync="TRUE">0.500000</absres>
<ordres Sync="TRUE">0.500000</ordres>
</coordrep>
<plandu Sync="TRUE">meters</plandu>
</planci>
</planar>
<geodetic>
<horizdn Sync="TRUE">North American Datum of 1983</horizdn>
<ellips Sync="TRUE">Geodetic Reference System 80</ellips>
<semiaxis Sync="TRUE">6378137.000000</semiaxis>
<denflat Sync="TRUE">298.257222</denflat>
</geodetic>
</horizsys>
<vertdef>
<altsys></altsys>
</vertdef>
</spref>
<eainfo>
<overview>
<eaover>
[Begin excerpt from USGS metadata]

Panchromatic orthoimagery is organized in a single channel.  Each pixel is assigned a gray-scale value from 0-255 with 0 representing black and 255 representing white.   Areas where data is incomplete due to lack of full image coverage are represented with the numeric value of 0 or 128.

[End excerpt from USGS metadata]
</eaover>
<eadetcit>U.S. Department of the Interior, U.S. Geological Survey, 1996, Standards for Digital Orthophotos: Reston, VA.</eadetcit>
</overview>
</eainfo>
<distinfo>
<distrib>
<cntinfo>
<cntorgp>
<cntorg>Information Office, Illinois State Geological Survey (ISGS), a division of the Institute of Natural Resource Sustainability (INRS) of the University of Illinois</cntorg>
</cntorgp>
<cntaddr>
<addrtype>mailing and physical address</addrtype>
<address>615 East Peabody Drive</address>
<city>Champaign</city>
<state>Illinois</state>
<postal>61820</postal>
<country>USA</country>
</cntaddr>
<cntvoice>217-333-4747</cntvoice>
<cnttdd>217-785-0211</cnttdd>
<cntemail>isgs@isgs.illinois.edu</cntemail>
<hours>8:00 a.m. - 4:30 p.m., Monday-Friday, U.S. Central Time</hours>
</cntinfo>
</distrib>
<distliab>
Refer to the Legal Notices of Terms and Conditions of the University of Illinois Web Privacy Policy (there is a link in the Cross References section) for policy statements regarding the following:

Disclaimer of Liability
Disclaimer of Warranties and Accuracy of Data
Disclaimer of Endorsement
Disclaimer for External Links
Disclaimer of Duty to Continue Provision of Data
Security
Choice of Law

By obtaining these data you agree to the provisions of the University of Illinois Web Privacy Policy, regardless of the manner in which the information was obtained.
</distliab>
<techpreq>The data are intended for use with GIS software. The ISGS uses ESRI ArcGIS software, however,  ESRI formats can be imported into many different GIS software packages. It is expected that customers who obtain these data have the technical expertise to use GIS software. The ISGS does not provide software support of any kind.</techpreq>
</distinfo>
<metainfo>
<metd>20090224</metd>
<metc>
<cntinfo>
<cntorgp></cntorgp>
<cntinst>Please refer to the Distribution Information section.</cntinst>
</cntinfo>
</metc>
<metstdn>FGDC Content Standards for Digital Geospatial Metadata</metstdn>
<metstdv>FGDC-STD-001-1998</metstdv>
<mettc>local time</mettc>
<metac>The access constraints as stated for the data apply also to the metadata.  Refer to the Access Constraints section of the Identification Information section.</metac>
<metuc>The use constraints as stated for the data apply also to the metadata.  Refer to the Use Constraints section of the Identification Information section.</metuc>
<metextns>
<onlink>http://www.esri.com/metadata/esriprof80.html</onlink>
<metprof>ESRI Metadata Profile</metprof>
</metextns>
</metainfo>
<lineage></lineage>
</metadata>
