<?xml version="1.0" encoding="UTF-8"?>
<metadata>
<idinfo>
<citation>
<citeinfo>
<origin>Illinois State Geological Survey</origin>
<origin>USDA-FSA-APFO Aerial Photography Field Office</origin>
<pubdate>20070129</pubdate>
<title>Mosaic of Illinois National Agriculture Imagery Program (NAIP) Orthoimagery in UTM Zone 16, NAD83, 2004 Photography</title>
<edition>20070129</edition>
<geoform>remote-sensing image</geoform>
<serinfo>
<sername>ISGS GIS Database</sername>
<issue>IL_NAIP_2004_MOSAIC_UTM16_RAS</issue>
</serinfo>
<pubinfo>
<pubplace>Champaign, IL</pubplace>
<publish>Illinois State Geological Survey</publish>
</pubinfo>
<onlink>http://165.221.201.14/NAIP.html</onlink>
<onlink>http://www.isgs.illinois.edu/</onlink>
<onlink>http://illinois.edu</onlink>
</citeinfo>
</citation>
<descript>
<abstract>
This data set is an ArcSDE raster mosaic of orthorectified color (3-band) aerial imagery for the UTM Zone 16 portion of the state of Illinois, collected as part of the National Agriculture Imagery Program (NAIP).  The data are stored in the &quot;as delivered&quot; spatial reference of UTM Zone 16, NAD83 with a 2-meter ground resolution.

The originator of the input image tiles is the USDA-FSA-APFO Aerial Photography Field Office.

The mosaic was constructed using georeferenced GeoTIFFs with ArcCatalog 9.1, ArcSDE 9.1 and Oracle 10g.  They are stored in the SDE database with LZ77 (non-lossy) compression and exact pixel registration to the original images.  Individual quarter-quadrangle image tiles overlapped with each other.  The overlap areas were overwritten as additional tiles were mosaicked.  The raster consumes 110 gigabytes in the SDE database and has 3.5 million database rows.

If viewed in ArcMap, the best rendering (i.e. most true to actual wavelength data) can be obtained by setting the symbology to use a maximum-minimum stretch (or no stretch).  Do not set the display to use any kind of histogram function - this attempts to read every row from the database and will freeze your software.

[Begin excerpt from original metadata]

NAIP acquires digital ortho imagery during the agricultural growing seasons in the continental U.S.  A primary goal of the NAIP program is to enable availabilty of ortho imagery within a year of acquisition. NAIP provides two main products: 1 meter ground sample distance (GSD) ortho imagery rectified to a horizontal accuracy of within +/- 3 meters of reference digital ortho quarter quads (DOQQS) from the National Digital Ortho Program (NDOP); and, 2 meter GSD ortho imagery rectified to within +/- 20 meters of reference DOQQs.  The tiling format of NAIP imagery is based on a 3.75&apos; x 3.75&apos; quarter quadrangle with a 360 meter buffer on all four sides.  NAIP quarter quads are rectified to the UTM coordinate system NAD83.  NAIP imagery can obtain as much as 10% cloud cover per tile.

[End excerpt from original metadata]
</abstract>
<purpose>
This raster can serve a variety of purposes, from interim maps to field references for earth science investigations and analysis. It is a useful GIS layer for comparison of gross changes in ground condition over time, and revision of digital line graphs and topographic maps.

These data are appropriate for use in local and regional thematic analysis.  The data are not appropriate as a geodetic, legal or engineering base.  The data set can serve as an important base cartographic element for many types of maps.  The data set was not and is not intended as a substitute for surveyed locations, such as can be determined by a registered Public Land Surveyor.  Although useful in a GIS as a reference base layer for maps, the data set has no legal basis in the definition of boundaries or property lines.

[Begin excerpt from original metadata]

The 2 meter GSD NAIP is intended as a source for current digital imagery in USDA Field Service Center GIS and for other programs that require imagery acquired during the agricultural growing season where high horizontal accuracy is not required.

[End excerpt from original metadata]
</purpose>
</descript>
<timeperd>
<timeinfo>
<sngdate>
<caldate>2004</caldate>
</sngdate>
</timeinfo>
<current>ground condition</current>
</timeperd>
<status>
<progress>Complete</progress>
<update>None planned</update>
</status>
<spdom>
<bounding>
<westbc Sync="TRUE">-90.218064</westbc>
<eastbc Sync="TRUE">-87.422909</eastbc>
<northbc Sync="TRUE">42.603574</northbc>
<southbc Sync="TRUE">36.916788</southbc>
</bounding>
</spdom>
<keywords>
<theme>
<themekt>None</themekt>
<themekey>Digital Georectified Image</themekey>
<themekey>Georectified Image</themekey>
<themekey>Georectified</themekey>
<themekey>Georectification</themekey>
<themekey>Georeferenced Image</themekey>
<themekey>Georeferenced</themekey>
<themekey>Quarter Quadrangle Centered</themekey>
<themekey>NAIP</themekey>
<themekey>Aerial Compliance</themekey>
<themekey>Compliance</themekey>
<themekey>Farming</themekey>
<themekey>USDA-FSA-APFO Aerial Photography Field Office</themekey>
<themekey>United States Department of Agriculture (USDA)</themekey>
<themekey>Agriculture</themekey>
</theme>
<place>
<placekt>None</placekt>
<placekey>US</placekey>
<placekey>IL</placekey>
<placekey>Illinois</placekey>
</place>
</keywords>
<accconst>
ISGS information must be obtained directly from the ISGS or from an authorized distributor.  Be aware that ISGS information obtained from an unauthorized third party may have been altered subsequent to original distribution, or may no longer be current.

Any access to these data, Web sites, computer systems, electronic services, and electronic networks is governed by University and campus policies, in particular, but not limited to, the Policy on Appropriate Use of Computers and Network Systems at the University of Illinois at Urbana-Champaign, the ISGS Terms of Use document available at the ISGS Web site, and the University of Illinois Web Privacy Notice.

Links to these are provided in the Cross References section.
</accconst>
<useconst>
ISGS information is the property of and copyrighted by the Board of Trustees of the University of Illinois with all rights reserved.  University copyright policy is stated in the General Rules Concerning University Organization and Procedure, Article III, Section 4.  A link is provided in the Cross References section.

Individuals or entities may make fair use of copyrighted ISGS material, such as reproducing a single figure or table, or using a brief text quotation, without obtaining formal permission, but in all cases the Illinois State Geological Survey must be credited as the source of the material. To reproduce ISGS information beyond the fair use standard, permission must be obtained from the ISGS Information Office, 615 East Peabody Drive, Champaign, Illinois 61820, 217-333-4747, isgs@isgs.illinois.edu. License fees and a license agreement may be required, depending on the proposed usage.

Any use of these data is governed by University and campus policies, in particular, but not limited to, the Policy on Appropriate Use of Computers and Network Systems at the University of Illinois at Urbana-Champaign, the ISGS Terms of Use document available at the ISGS Web site, and the University of Illinois Web Privacy Notice.  Links to these are provided in the Cross References section.

Map information is to be used at a scientifically and cartographically appropriate scale, that is, at a scale no greater than indicated on the map or as described in the documentation of the map or map data.  Map information is not appropriate for, and is not to be used as, a geodetic, legal, or engineering base. Map information has no legal basis in the definition of boundaries or property lines and is not intended as a substitute for surveyed locations such as can be determined by a registered Public Land Surveyor.

The data do not replace the need for detailed site-specific studies.
</useconst>
<ptcontac>
<cntinfo>
<cntinst>Please refer to the Distribution Information section.</cntinst>
</cntinfo>
</ptcontac>
<native>ArcSDE 9.1 on Oracle 10g</native>
<crossref>
<citeinfo>
<title>USDA NAIP Website</title>
<onlink>http://165.221.201.14/NAIP.html</onlink>
</citeinfo>
</crossref>
<crossref>
<citeinfo>
<title>ISGS Terms of Use</title>
<onlink>http://www.isgs.illinois.edu</onlink>
</citeinfo>
</crossref>
<crossref>
<citeinfo>
<title>University of Illinois Web Privacy Notice</title>
<onlink>http://www.vpaa.uillinois.edu/policies/web_privacy.cfm</onlink>
</citeinfo>
</crossref>
<crossref>
<citeinfo>
<title>University Copyright Policy (stated in the General Rules Concerning University Organization and Procedure, Article III, Section 4)</title>
<onlink>http://www.uillinois.edu/trustees/rules.cfm#sec34</onlink>
</citeinfo>
</crossref>
<crossref>
<citeinfo>
<title>Policy on Appropriate Use of Computers and Network Systems at the University of Illinois at Urbana-Champaign</title>
<onlink>http://www.fs.uiuc.edu/cam/CAM/viii/viii-1.1.html</onlink>
</citeinfo>
</crossref>
</idinfo>
<dataqual>
<attracc>
<attraccr>
[Begin excerpt from original metadata]

No report.

[End excerpt from original metadata]

For SDE mosaic developed by ISGS:

If viewed in ArcMap, the best rendering (i.e. most true to actual wavelength data) can be obtained by setting the symbology to use a maximum-minimum stretch (or no stretch).  Do not set the display to use any kind of histogram function - this attempts to read every row from the database and will freeze your software.
</attraccr>
</attracc>
<logic>
[Begin excerpt from original metadata]

NAIP 3.75 minute tile file names are based on the USGS quadrangle naming convention.

[End excerpt from original metadata]
</logic>
<complete>
Regarding data &quot;as delivered&quot; by USDA:  No information.

Regarding mosaic as subsequently processed by ISGS:  All areas of the UTM Zone 16 portion of Illinois are represented.  Overlapping edges of adjacent image tiles were eliminated in the mosaicking process.
</complete>
<posacc>
<horizpa>
<horizpar>
[Begin excerpt from original metadata]

The positional accuracy for the digital data is tested by visual comparison to a data source with a higher order of accuracy.

[End excerpt from original metadata]
</horizpar>
</horizpa>
</posacc>
<lineage>
<srcinfo>
<srccite>
<citeinfo>
<origin>USDA-FSA-APFO Aerial Photography Field Office</origin>
<pubdate>2005</pubdate>
<title>Collection of NAIP image tiles for Illinois, 2004 photography</title>
<geoform>remote-sensing image</geoform>
<pubinfo></pubinfo>
<othercit>The collection included 4163 2-meter resolution, georeferenced, color (3-band) GeoTIFF images, 3193 of which are in UTM Zone 16 in Illinois.</othercit>
</citeinfo>
</srccite>
<typesrc>DLT</typesrc>
<srctime>
<timeinfo>
<sngdate>
<caldate>2004</caldate>
</sngdate>
</timeinfo>
<srccurr>ground condition</srccurr>
</srctime>
</srcinfo>
<procstep>
<procdesc>No processing steps were included in the original metadata.</procdesc>
<proccont>
<cntinfo>
<cntorgp></cntorgp>
</cntinfo>
</proccont>
</procstep>
</lineage>
</dataqual>
<spdoinfo>
<direct Sync="TRUE">Raster</direct>
<rastinfo>
<rasttype Sync="TRUE">Pixel</rasttype>
<rowcount Sync="TRUE">313573</rowcount>
<colcount Sync="TRUE">113263</colcount>
<vrtcount Sync="TRUE">1</vrtcount>
</rastinfo>
</spdoinfo>
<spref>
<horizsys>
<planar>
<gridsys>
<gridsysn Sync="TRUE">Universal Transverse Mercator</gridsysn>
<utm>
<utmzone Sync="TRUE">16</utmzone>
<transmer>
<sfctrmer Sync="TRUE">0.999600</sfctrmer>
<longcm Sync="TRUE">-87.000000</longcm>
<latprjo Sync="TRUE">0.000000</latprjo>
<feast Sync="TRUE">500000.000000</feast>
<fnorth Sync="TRUE">0.000000</fnorth>
</transmer>
</utm>
</gridsys>
<planci>
<plance Sync="TRUE">row and column</plance>
<coordrep>
<absres Sync="TRUE">2.000000</absres>
<ordres Sync="TRUE">2.000000</ordres>
</coordrep>
<plandu Sync="TRUE">meters</plandu>
</planci>
</planar>
<geodetic>
<horizdn Sync="TRUE">North American Datum of 1983</horizdn>
<ellips Sync="TRUE">Geodetic Reference System 80</ellips>
<semiaxis Sync="TRUE">6378137.000000</semiaxis>
<denflat Sync="TRUE">298.257222</denflat>
</geodetic>
</horizsys>
<vertdef>
<altsys></altsys>
</vertdef>
</spref>
<eainfo>
<overview>
<eaover>
[Begin excerpt from original metadata]

24-bit pixels, 3 band color(RGB) values 0 - 255.

[End excerpt from original metadata]
</eaover>
<eadetcit>None.</eadetcit>
</overview>
</eainfo>
<distinfo>
<distrib>
<cntinfo>
<cntorgp>
<cntorg>Information Office, Illinois State Geological Survey (ISGS), a division of the Institute of Natural Resource Sustainability (INRS) of the University of Illinois</cntorg>
</cntorgp>
<cntaddr>
<addrtype>mailing and physical address</addrtype>
<address>615 East Peabody Drive</address>
<city>Champaign</city>
<state>Illinois</state>
<postal>61820</postal>
<country>USA</country>
</cntaddr>
<cntvoice>217-333-4747</cntvoice>
<cnttdd>217-785-0211</cnttdd>
<cntemail>isgs@isgs.illinois.edu</cntemail>
<hours>8:00 a.m. - 4:30 p.m., Monday-Friday, U.S. Central Time</hours>
</cntinfo>
</distrib>
<distliab>
Refer to the Legal Notices of Terms and Conditions of the University of Illinois Web Privacy Policy (there is a link in the Cross References section) for policy statements regarding the following:

Disclaimer of Liability
Disclaimer of Warranties and Accuracy of Data
Disclaimer of Endorsement
Disclaimer for External Links
Disclaimer of Duty to Continue Provision of Data
Security
Choice of Law

By obtaining these data you agree to the provisions of the University of Illinois Web Privacy Policy, regardless of the manner in which the information was obtained.
</distliab>
<techpreq>The data are intended for use with GIS software. The ISGS uses ESRI ArcGIS software, however,  ESRI formats can be imported into many different GIS software packages. It is expected that customers who obtain these data have the technical expertise to use GIS software. The ISGS does not provide software support of any kind.</techpreq>
</distinfo>
<metainfo>
<metd>20090224</metd>
<metc>
<cntinfo>
<cntorgp></cntorgp>
<cntinst>Please refer to the Distribution Information section.</cntinst>
</cntinfo>
</metc>
<metstdn>FGDC Content Standards for Digital Geospatial Metadata</metstdn>
<metstdv>FGDC-STD-001-1998</metstdv>
<mettc>local time</mettc>
<metac>The access constraints as stated for the data apply also to the metadata.  Refer to the Access Constraints section of the Identification Information section.</metac>
<metuc>The use constraints as stated for the data apply also to the metadata.  Refer to the Use Constraints section of the Identification Information section.</metuc>
<metextns>
<onlink>http://www.esri.com/metadata/esriprof80.html</onlink>
<metprof>ESRI Metadata Profile</metprof>
</metextns>
</metainfo>
</metadata>
